BEGIN:VCALENDAR
VERSION:2.0
PRODID:spatie/icalendar-generator
DESCRIPTION:Events from The Queer Big Apple Corps
X-WR-CALDESC:Events from The Queer Big Apple Corps
REFRESH-INTERVAL;VALUE=DURATION:PT1440M
X-PUBLISHED-TTL:PT1440M
BEGIN:VTIMEZONE
TZID:Etc/GMT+5
BEGIN:STANDARD
DTSTART:20250205T113000Z
TZOFFSETFROM:-0500
TZOFFSETTO:-0500
END:STANDARD
END:VTIMEZONE
BEGIN:VTIMEZONE
TZID:UTC
BEGIN:STANDARD
DTSTART:20250725T104550Z
TZOFFSETFROM:+0000
TZOFFSETTO:+0000
END:STANDARD
END:VTIMEZONE
BEGIN:VEVENT
UID:124-80
DTSTAMP:20260421T104550Z
SUMMARY:NYC Marathon - 1st Ave and 110th Street - Manhattan
LOCATION:
ORGANIZER;CN=Jason Cannon:MAILTO:jcannon@lgbac.org
DTSTART;TZID=Etc/GMT+5:20251102T113000
DTEND;TZID=Etc/GMT+5:20251102T123000
X-ALT-DESC;FMTTYPE=TEXT/HTML:
CATEGORIES:General
URL;VALUE=URI:https://www.qbac.org/mc-events/nyc-marathon-1st-ave-and-110th
 -street-manhattan-2/?mc_id=124
END:VEVENT
END:VCALENDAR